Workbook

Sheet ANEXO_PROPUESTA
A3: ANEXO 01: PROPUESTA ECONOMICA SERVICIO POR TERCERO
C6: DENOMINACIÓN
C8: NUMERO DE REQUERIMIENTO | E8: CM-100-2025-DNPE ( EJEMPLO)
C11: 1. DATOS PERSONALES Y PROPUESTA
C12: DNI N°
C13: RUC N°
C14: APELLIDOS Y NOMBRES
C15: FECHA DE NACIMIENTO (dia/mes/año)
C16: DIRECCIÓN
C17: DISTRITO / PROVINCIA
C18: TELÉFONO CELULAR
C19: CORREO ELECTRONICO
C20: MONTO TOTAL DE LA PROPUESTA ECONOMICA
C21: CANTIDAD DE ARMADAS (SEGÚN TDR)
C22: PLAZO DE EJECUCION
... C25: N° DE COLEGIATURA Y NOMBRE
C26: ¿SE ENCUENTRA HABILITADO? | E26: SI ( ) NO ( )
C28: NOTA: Para el llenado del presente formato el postulante debe: 1. Tener en cuenta que los datos registrados deben estar acreditados con la documentación respectiva. 2. Tener en cuenta los requisitos del Perfil señalados en los Términos de Referencia, deben estar debidamente sustetadas. 3. El monto total de la propuesta debe incluir todos los impuestos de Ley.
C33: 2. PERFIL SOLICITADO SEGÚN TDR
C35: 2.1 FORMACIÓN ACADÉMICA (Requiere documentación sustentatoria)
D36: NOMBRE DE LA INSTITUCIÓN | E36: NIVEL ALCANZADO | F36: PROFESIÓN O ESPECIALIDAD | H36: MES/AÑO | J36: Que documento tiene que sustente lo señalado
H38: DESDE | I38: HASTA
C39: SECUNDARIA | H39: / | I39: /
C40: FORMACIÓN TÉCNICA BÁSICA (1 a 2 Años) | H40: / | I40: /
C41: FORMACIÓN TÉCNICA BÁSICA (3 a 4 Años) | H41: / | I41: /
C42: FORMACIÓN UNIVERSITARIA | H42: / | I42: /
C43: MAESTRÍA | H43: / | I43: /
C44: DOCTORADO | H44: / | I44: /
C45: OTROS ESTUDIOS (Otras profesiones, Especialidades y/o Maestrias) | H45: / | I45: /
C46: OTROS ESTUDIOS (Otras profesiones, Especialidades y/o Maestrias) | H46: / | I46: /
C49: 2. 2 CONOCIMIENTOS PARA EL PUESTO REQUERIDOS EN EL PERFIL (No requieren documentación sustentatoria)
C50: CONOCIMIENTO PARA EL PUESTO | E50: NIVEL | H50: SÓLO EN CASO CUENTE CON DOCUMENTACIÓN SUSTENTATORIA, DETALLE:
H51: INSTITUCION QUE CERTIFICA
C58: 2.3 CURSOS Y/O PROGRAMAS DE ESPECIALIZACIÓN REQUERIDOS EN EL PERFIL DEL TDR (Requeridos y sustentados con documentos)
C59: CURSO, DIPLOMADO, ESTUDIOS DE ESPECIALIZACIÓN | E59: INSTITUCIÓN | I59: TIEMPO DE ESTUDIOS "EN HORAS" | J59: DOCUMENTO SUSTENTATORIO
C66: 3. EXPERIENCIA LABORAL REQUERIDO EN EL PERFIL DE PUESTO (Completar con aquellos puestos y/o funciones solicitadas. Sustentados con documentos)
C68: 3.1 Experiencia General
C69: EMPRESA Y/O INSTITUCIÓN | E69: NOMBRE DEL PUESTO / CARGO QUE DESEMPEÑA | G69: FECHA DE INICIO D/M/A | H69: FECHA DE TERMINO D/M/A | I69: AÑOS/MESES/DIAS DE EXPERIENCIA | J69: Documento que sustenta lo señalado
G70: 45656 | H70: 45746 | I70: =IFERROR(DATEDIF(G70,H70,"y") & " años " & DATEDIF(G70,H70,"ym") & " meses " & DATEDIF(G70,H70,"md") & " días"," ") -> 0 años 3 meses 0 días
I71: =IFERROR(DATEDIF(G71,H71,"y") & " años " & DATEDIF(G71,H71,"ym") & " meses " & DATEDIF(G71,H71,"md") & " días"," ") -> 0 años 0 meses 0 días
...

Sheet Hoja2
B2: DNI N° | C2: Nombres y Apellidos | D2: Fecha de Nacimiento D/M/A | E2: edad | F2: Dirección | G2: Estado Civil | H2: Distrito | I2: Teléfono celular | J2: Teléfono fijo | K2: Correo electrónico | L2: Medio por el cual se enteró del proceso CAS. | M2: condicion | N2: profesion | O2: maestria | P2: diplomado 1 | Q2: HORAS DEL DIPLOMADO 1 | R2: DIPLOMADO 2 | S2: HORAS DEL DIPLOMADO 2 | T2: INGLES | U2: COMPUTACION | V2: CURSO 1 | W2: CURSO 2 | X2: CURSO 3 | Y2: EXPERIENCIA | Z2: SECTOR | AA2: CARGO/PUESTO | AB2: AÑOS DE EXPERIENCIA | AC2: EXPERIENCIA | AD2: SECTOR | AE2: CARGO/PUESTO | AF2: AÑOS DE EXPERIENCIA | AG2: EXPERIENCIA | AH2: SECTOR | AI2: CARGO/PUESTO | AJ2: AÑOS DE EXPERIENCIA | AK2: EXPERIENCIA | AL2: SECTOR | AM2: CARGO/PUESTO | AN2: AÑOS DE EXPERIENCIA
B3: =ANEXO_PROPUESTA!$E6 -> 0 | C3: =ANEXO_PROPUESTA!$E7 -> 0 | D3: =ANEXO_PROPUESTA!$E8 -> CM-100-2025-DNPE ( EJEMPLO) | E3: =(TODAY()-D3)/365 -> #VALUE! | F3: =ANEXO_PROPUESTA!#REF! -> #REF! | G3: =ANEXO_PROPUESTA!$E10 -> 0 | H3: =ANEXO_PROPUESTA!#REF! -> #REF! | I3: =ANEXO_PROPUESTA!$E11 -> 0 | J3: =ANEXO_PROPUESTA!$E12 -> 0 | K3: =ANEXO_PROPUESTA!$E14 -> 0 | L3: =ANEXO_PROPUESTA!$E15 -> 0 | M3: =ANEXO_PROPUESTA!#REF! -> #REF! | N3: =ANEXO_PROPUESTA!#REF! -> #REF! | O3: =ANEXO_PROPUESTA!$F33 -> 0 | P3: =ANEXO_PROPUESTA!#REF! -> #REF! | Q3: =ANEXO_PROPUESTA!#REF! -> #REF! | R3: =ANEXO_PROPUESTA!$C47 -> 0 | S3: =ANEXO_PROPUESTA!$J47 -> 0 | T3: =ANEXO_PROPUESTA!#REF! -> #REF! | U3: =ANEXO_PROPUESTA!#REF! -> #REF! | V3: =ANEXO_PROPUESTA!#REF! -> #REF! | W3: =ANEXO_PROPUESTA!#REF! -> #REF! | X3: =ANEXO_PROPUESTA!#REF! -> #REF! | Y3: =ANEXO_PROPUESTA!#REF! -> #REF! | Z3: =ANEXO_PROPUESTA!#REF! -> #REF! | AA3: =ANEXO_PROPUESTA!#REF! -> #REF! | ... AN3: =ANEXO_PROPUESTA!#REF! -> #REF!

Sheet Hoja3
